BEGIN:VCALENDAR
VERSION:2.0
PRODID:-//SKANSW Inc - ECPv4.6.8//NONSGML v1.0//EN
CALSCALE:GREGORIAN
METHOD:PUBLISH
X-WR-CALNAME:SKANSW Inc
X-ORIGINAL-URL:http://skansw.com.au
X-WR-CALDESC:Events for SKANSW Inc
BEGIN:VEVENT
DTSTART;VALUE=DATE:20180311
DTEND;VALUE=DATE:20180312
DTSTAMP:20180225T140424
CREATED:20171112T224654Z
LAST-MODIFIED:20180207T102032Z
UID:1561-1520726400-1520812799@skansw.com.au
SUMMARY:Eastern Creek 8hr (Dieci Enduro Cup - Round 1)
DESCRIPTION:SUPP REGS RACE ENTRY AND TYRES\n
URL:http://skansw.com.au/event/eastern-creek-8hr-dieci-enduro-cup-round-1/
LOCATION:50 Peter Brock Dr\, Eastern Creek\, NSW\, 2766\, Australia
CATEGORIES:Endurance Race
ATTACH;FMTTYPE=image/jpeg:http://skansw.com.au/wp-content/uploads/2018-flyer-EC8hr.jpg
END:VEVENT
BEGIN:VEVENT
DTSTART;VALUE=DATE:20180415
DTEND;VALUE=DATE:20180416
DTSTAMP:20180225T140424
CREATED:20171112T224849Z
LAST-MODIFIED:20180128T041959Z
UID:1563-1523750400-1523836799@skansw.com.au
SUMMARY:Pro Axle Cup - Canberra 6hr
DESCRIPTION:
URL:http://skansw.com.au/event/pro-axle-cup-canberra-6hr/
LOCATION:705 Pialligo Ave\, Pialligo\, ACT\, 2609\, Australia
CATEGORIES:Endurance Race
ATTACH;FMTTYPE=image/jpeg:http://skansw.com.au/wp-content/uploads/2018-flyer-Canberra6hr.jpg
END:VEVENT
BEGIN:VEVENT
DTSTART;VALUE=DATE:20180527
DTEND;VALUE=DATE:20180528
DTSTAMP:20180225T140424
CREATED:20171203T075706Z
LAST-MODIFIED:20180128T055849Z
UID:1565-1527379200-1527465599@skansw.com.au
SUMMARY:Blind & Shutterworks Picton 6hr
DESCRIPTION:
URL:http://skansw.com.au/event/blind-shutterworks-picton-6hr/
LOCATION:200 Picton Rd\, Maldon\, NSW\, 2571\, Australia
CATEGORIES:Endurance Race
ATTACH;FMTTYPE=image/jpeg:http://skansw.com.au/wp-content/uploads/2018-flyer-Picton.jpg
END:VEVENT
BEGIN:VEVENT
DTSTART;VALUE=DATE:20180715
DTEND;VALUE=DATE:20180716
DTSTAMP:20180225T140424
CREATED:20171203T075706Z
LAST-MODIFIED:20180128T040249Z
UID:1567-1531612800-1531699199@skansw.com.au
SUMMARY:Sydney Karting Warehouse Newcastle 6hr
DESCRIPTION:
URL:http://skansw.com.au/event/sydney-karting-warehouse-newcastle-6hr/
LOCATION:5 Cameron Park Drive\, Cameron Park\, NSW\, 2285\, Australia
CATEGORIES:Endurance Race
ATTACH;FMTTYPE=image/jpeg:http://skansw.com.au/wp-content/uploads/2018-flyer-Newcastle.jpg
END:VEVENT
BEGIN:VEVENT
DTSTART;VALUE=DATE:20180811
DTEND;VALUE=DATE:20180812
DTSTAMP:20180225T140424
CREATED:20171203T075705Z
LAST-MODIFIED:20180128T055957Z
UID:1569-1533945600-1534031999@skansw.com.au
SUMMARY:Sydney Karting Warehouse Manning Vally Super Sprint
DESCRIPTION:
URL:http://skansw.com.au/event/sydney-karting-warehouse-manning-vally-super-sprint/
LOCATION:2 Coglan Avenue\, Wingham\, NSW\, 2429\, Australia
CATEGORIES:Endurance Race
ATTACH;FMTTYPE=image/jpeg:http://skansw.com.au/wp-content/uploads/2018-flyer-Manning.jpg
END:VEVENT
BEGIN:VEVENT
DTSTART;VALUE=DATE:20180909
DTEND;VALUE=DATE:20180910
DTSTAMP:20180225T140424
CREATED:20171203T075705Z
LAST-MODIFIED:20180128T040554Z
UID:1571-1536451200-1536537599@skansw.com.au
SUMMARY:Moonraker Design & Print Lithgow 6hr
DESCRIPTION:
URL:http://skansw.com.au/event/moonraker-design-print-lithgow-6hr/
LOCATION:Oakley Forest Rd\, Marrangaroo \, NSW\, 2790\, Australia
CATEGORIES:Endurance Race
ATTACH;FMTTYPE=image/jpeg:http://skansw.com.au/wp-content/uploads/2018-flyer-Lithgow.jpg
END:VEVENT
BEGIN:VEVENT
DTSTART;VALUE=DATE:20181027
DTEND;VALUE=DATE:20181028
DTSTAMP:20180225T140424
CREATED:20171203T075705Z
LAST-MODIFIED:20180128T040700Z
UID:1573-1540598400-1540684799@skansw.com.au
SUMMARY:Orange 8hr Finale - (Dieci Enduro Cup Round 2)
DESCRIPTION:
URL:http://skansw.com.au/event/orange-8hr-finale-dieci-enduro-cup-round-2/
LOCATION:Perc Griffith Way\, Summer Hills\, NSW\, 2800\, Australia
CATEGORIES:Endurance Race
ATTACH;FMTTYPE=image/jpeg:http://skansw.com.au/wp-content/uploads/2018-flyer-Orange8hr.jpg
END:VEVENT
END:VCALENDAR